BEGIN:VCALENDAR
VERSION:2.0
PRODID:-//Tukios.com/
BEGIN:VEVENT
UID:77f28b5a-73cc-4ebb-b78c-fee3503f0381@www.mccannhealey.com
DTSTAMP:20260425T040112Z
DTSTART:20260429T180000Z
DTEND:20260429T190000Z
SUMMARY:Graveside Service
DESCRIPTION:
URL:https://www.mccannhealey.com/obituaries/maryfrances-ellis
LOCATION:Eglington Cemetery 320 Kings Highway  East Greenwich Township NJ 
	08020
GEO:39.7922703;-75.2205693
END:VEVENT
END:VCALENDAR