BEGIN:VCALENDAR
VERSION:2.0
PRODID:-//Tukios.com/
BEGIN:VEVENT
UID:5ecaa219-11de-4981-bef3-74f66233c0fd@www.mccannhealey.com
DTSTAMP:20260424T204735Z
DTSTART:20260427T140000Z
DTEND:20260427T160000Z
SUMMARY:Viewing
DESCRIPTION:
URL:https://www.mccannhealey.com/obituaries/randall-beck
LOCATION: 851 Monmouth Street  Gloucester City NJ 08030
GEO:39.8949483;-75.1169155
END:VEVENT
END:VCALENDAR