BEGIN:VCALENDAR
VERSION:2.0
PRODID:-//Tukios.com/
BEGIN:VEVENT
UID:8dadda45-9358-4643-bf2c-5d524b719e0d@www.mccannhealey.com
DTSTAMP:20260424T204741Z
DTSTART:20260427T160000Z
DTEND:20260427T163000Z
SUMMARY:Celebration of Life
DESCRIPTION:
URL:https://www.mccannhealey.com/obituaries/randall-beck
LOCATION: 851 Monmouth Street  Gloucester City NJ 08030
GEO:39.8949483;-75.1169155
END:VEVENT
END:VCALENDAR