BEGIN:VCALENDAR
VERSION:2.0
PRODID:-//Tukios.com/
BEGIN:VEVENT
UID:f13a6a8e-fd8e-4e43-a9d6-28624b07b59f@www.mccannhealey.com
DTSTAMP:20260424T204450Z
DTSTART:20260427T180000Z
DTEND:20260427T190000Z
SUMMARY:Interment
DESCRIPTION:
URL:https://www.mccannhealey.com/obituaries/randall-beck
LOCATION: 350 Provincline Rd  Wrightstown NJ 08562
GEO:40.0935376;-74.5640937
END:VEVENT
END:VCALENDAR