BEGIN:VCALENDAR
VERSION:2.0
PRODID:-//Tukios.com/
BEGIN:VEVENT
UID:e959f39e-c563-4e1a-b453-ae134ce17d52@www.mccannhealey.com
DTSTAMP:20260421T100522Z
DTSTART:20260527T150000Z
DTEND:20260527T160000Z
SUMMARY:Interment Private
DESCRIPTION:
URL:https://www.mccannhealey.com/obituaries/ruth-bundens
LOCATION:Eglington Cemetery 320 Kings Highway  East Greenwich Township NJ 
	08020
GEO:39.7922703;-75.2205693
END:VEVENT
END:VCALENDAR